BEGIN:VCALENDAR
VERSION:2.0
PRODID:-//Sabre//Sabre VObject 4.5.8//EN
CALSCALE:GREGORIAN
BEGIN:VEVENT
UID:sabre-vobject-8dfa8990-d7d7-4111-a79f-de4ef57da46a
DTSTAMP:20260425T210907Z
SUMMARY:Pfarrgottesdienst
DESCRIPTION:https://pfarreien-bistum-augsburg.df-preview.de/pfarrgottesdien
 st_id1558119
DTSTART;TZID=Europe/Berlin:20261004T083000
DURATION:PT30M
LOCATION:St. Michael
END:VEVENT
END:VCALENDAR
