BEGIN:VCALENDAR
VERSION:2.0
PRODID:-//Sabre//Sabre VObject 4.5.8//EN
CALSCALE:GREGORIAN
BEGIN:VEVENT
UID:sabre-vobject-8a2eae8b-565d-4e34-8649-e3e007567c33
DTSTAMP:20260424T211112Z
SUMMARY:Pfarrgottesdienst
DESCRIPTION:https://pfarreien-bistum-augsburg.df-preview.de/pfarrgottesdien
 st_id1558100
DTSTART;TZID=Europe/Berlin:20260816T083000
DURATION:PT30M
LOCATION:St. Michael
END:VEVENT
END:VCALENDAR
